


BEGIN:VCALENDAR
VERSION:2.0
PRODID:-//wp-events-plugin.com//7.2.3.1//EN
BEGIN:VEVENT
UID:54@riccasposa.com
DTSTART;TZID=America/New_York:20250425T000000
DTEND;TZID=America/New_York:20250427T235959
DTSTAMP:20250801T093950Z
URL:https://riccasposa.com/events/barcelona-bridal-fashion-week-2025/
SUMMARY:Barcelona Bridal Fashion Week 2025
DESCRIPTION:Join Us at Fira Barcelona for an Unforgettable Bridal Showcase!
 \n\n📍 Location: Fira Barcelona\n🗓 Exhibition Dates: April 25-27\, 20
 25\n👰‍♀️ Runway Show: April 24\, 2025 | 1:00 PM\n\nWe invite you 
 to experience the magic of Ricca Sposa at BBFW\, where we will unveil our 
 latest collections at an exclusive runway show on April 24. Witness the fu
 sion of exquisite craftsmanship\, innovative design\, and modern romance\,
  redefining bridal fashion.\n\nFrom April 25 to 27\, explore our newest cr
 eations up close at our exhibition stand\, where you can discover the intr
 icate details and artistry behind each gown.\n\nBe among the first to expe
 rience the future of bridal couture—secure your spot in advance!\n\nStay
  tuned for more updates as we count down to this extraordinary event.
ATTACH;FMTTYPE=image/jpeg:https://riccasposa.com/wp-content/uploads/2025/0
 1/file_8.jpg
CATEGORIES:Exhibitions
LOCATION:Montjuïc Venue – Fira de Barcelona\, Avda. Mª Cristina\, s/n  
 08007 Barcelona\, Barcelona\, 08007\, Spain
GEO:41.387767;2.126687
X-APPLE-STRUCTURED-LOCATION;VALUE=URI;X-ADDRESS=Avda. Mª Cristina\, s/n  0
 8007 Barcelona\, Barcelona\, 08007\, Spain;X-APPLE-RADIUS=100;X-TITLE=Mont
 juïc Venue – Fira de Barcelona:geo:41.387767,2.126687
END:VEVENT
BEGIN:VTIMEZONE
TZID:America/New_York
X-LIC-LOCATION:America/New_York
BEGIN:DAYLIGHT
DTSTART:20250309T030000
TZOFFSETFROM:-0500
TZOFFSETTO:-0400
TZNAME:EDT
END:DAYLIGHT
END:VTIMEZONE
END:VCALENDAR