


BEGIN:VCALENDAR
VERSION:2.0
PRODID:-//wp-events-plugin.com//7.2.3.1//EN
BEGIN:VEVENT
UID:56@riccasposa.com
DTSTART;TZID=America/New_York:20250323T000000
DTEND;TZID=America/New_York:20250324T235959
DTSTAMP:20250801T093949Z
URL:https://riccasposa.com/events/bridal-week-harrogate-march-2025/
SUMMARY:Bridal Week Harrogate | March 2025
DESCRIPTION:Join us this March at Harrogate Bridal Market 2025\, where Ricc
 a Sposa will unveil our latest bridal collections\, crafted to inspire and
  enchant.\n\nImmerse yourself in a world of exquisite design\, luxurious f
 abrics\, and timeless elegance as we present gowns that redefine modern ro
 mance. This is your opportunity to discover our newest creations up close 
 and experience the artistry behind every silhouette.\n\nBe among the first
  to experience the future of bridal couture—secure your spot in advance!
 \n\nWe look forward to welcoming you to an unforgettable showcase of brida
 l fashion. See you in Harrogate! 💫
ATTACH;FMTTYPE=image/jpeg:https://riccasposa.com/wp-content/uploads/2025/0
 1/file_9.jpg
CATEGORIES:Exhibitions
LOCATION:Harrogate Convention Centre\, Harrogate Convention Centre   Kings
  Road\, Harrogate\, HG1 5LA\, United Kingdom\, Harrogate\, HG1 5LA\, Unite
 d Kingdom
GEO:53.995846;-1.542912
X-APPLE-STRUCTURED-LOCATION;VALUE=URI;X-ADDRESS=Harrogate Convention Centre
    Kings Road\, Harrogate\, HG1 5LA\, United Kingdom\, Harrogate\, HG1 5L
 A\, United Kingdom;X-APPLE-RADIUS=100;X-TITLE=Harrogate Convention Centre:
 geo:53.995846,-1.542912
END:VEVENT
BEGIN:VTIMEZONE
TZID:America/New_York
X-LIC-LOCATION:America/New_York
BEGIN:DAYLIGHT
DTSTART:20250309T030000
TZOFFSETFROM:-0500
TZOFFSETTO:-0400
TZNAME:EDT
END:DAYLIGHT
END:VTIMEZONE
END:VCALENDAR