


BEGIN:VCALENDAR
VERSION:2.0
PRODID:-//wp-events-plugin.com//7.2.3.1//EN
BEGIN:VEVENT
UID:14@riccasposa.com
DTSTART;TZID=America/Chicago:20240317T100000
DTEND;TZID=America/Chicago:20240319T180000
DTSTAMP:20240228T151809Z
URL:https://riccasposa.com/events/exhibition-national-bridal-market-chicag
 o-march-2024/
SUMMARY:Exhibition National Bridal Market Chicago\, March 2024
DESCRIPTION:Exclusive Invitation to National Bridal Market Chicago\, March 
 2024  \nGet ready to be swept away by an extraordinary National Bridal Mar
 ket Chicago lineup of our newest bridal collertions\, each weaving magic w
 ith silk\, lace\, and sheer brilliance.   \nWe are waiting for you: from M
 arch 17th to 19th\, 2024 \nJoin us at Booth 4050 as we unveil our latest e
 xquisite bridal collections!  \nMark your calendars and save the date! We 
 can't wait to welcome you to Booth 4050 at the National Bridal Market Chic
 ago.
ATTACH;FMTTYPE=image/jpeg:https://riccasposa.com/wp-content/uploads/2024/0
 2/IMG_1425.jpg
CATEGORIES:Exhibitions
LOCATION:National Bridal Market Chicago\, 222 W Merchandise Mart Plaza\, Ch
 icago\, IL 60654\, United States\, Chicago\, United States\, 60654\, Unite
 d States
GEO:41.88841;-87.63545
X-APPLE-STRUCTURED-LOCATION;VALUE=URI;X-ADDRESS=222 W Merchandise Mart Plaz
 a\, Chicago\, IL 60654\, United States\, Chicago\, United States\, 60654\,
  United States;X-APPLE-RADIUS=100;X-TITLE=National Bridal Market Chicago:g
 eo:41.88841,-87.63545
END:VEVENT
BEGIN:VTIMEZONE
TZID:America/Chicago
X-LIC-LOCATION:America/Chicago
BEGIN:DAYLIGHT
DTSTART:20240310T030000
TZOFFSETFROM:-0600
TZOFFSETTO:-0500
TZNAME:CDT
END:DAYLIGHT
END:VTIMEZONE
END:VCALENDAR