


BEGIN:VCALENDAR
VERSION:2.0
PRODID:-//wp-events-plugin.com//7.2.3.1//EN
BEGIN:VEVENT
UID:57@riccasposa.com
DTSTART;TZID=America/New_York:20250408T000000
DTEND;TZID=America/New_York:20250409T235959
DTSTAMP:20250801T093948Z
URL:https://riccasposa.com/events/new-york-luxury-bridal-fashion-week-apri
 l-2025/
SUMMARY:New York Luxury Bridal Fashion Week | April 2025
DESCRIPTION:Join us this April at Union Square Couture – NYLBFW 2025\, wh
 ere Ricca Sposa will unveil our latest bridal collections at the Lotte Hot
 el\, New York\, on April 8-9.\n\nStep into a world of exquisite craftsmans
 hip\, luxurious fabrics\, and timeless elegance as we present gowns design
 ed to redefine modern bridal fashion. This is your exclusive opportunity t
 o experience our newest creations up close and witness the artistry behind
  every silhouette.\n\nBe among the first to discover the future of bridal 
 couture—secure your appointment in advance!\n\nWe look forward to welcom
 ing you to an unforgettable showcase of bridal fashion in the heart of New
  York. See you at Union Square Couture! 💫
ATTACH;FMTTYPE=image/jpeg:https://riccasposa.com/wp-content/uploads/2025/0
 3/file_10.jpg
CATEGORIES:Exhibitions
LOCATION:Lotte Hotel\, New York\, 455 Madison Ave\, New York\, NY 10022\, U
 SA\, New York\, 10022\, United States
GEO:40.758019;-73.9749745
X-APPLE-STRUCTURED-LOCATION;VALUE=URI;X-ADDRESS=455 Madison Ave\, New York\
 , NY 10022\, USA\, New York\, 10022\, United States;X-APPLE-RADIUS=100;X-T
 ITLE=Lotte Hotel\, New York:geo:40.758019,-73.9749745
END:VEVENT
BEGIN:VTIMEZONE
TZID:America/New_York
X-LIC-LOCATION:America/New_York
BEGIN:DAYLIGHT
DTSTART:20250309T030000
TZOFFSETFROM:-0500
TZOFFSETTO:-0400
TZNAME:EDT
END:DAYLIGHT
END:VTIMEZONE
END:VCALENDAR