


BEGIN:VCALENDAR
VERSION:2.0
PRODID:-//wp-events-plugin.com//7.2.3.1//EN
BEGIN:VEVENT
UID:33@riccasposa.com
DTSTART;TZID=America/New_York:20241012T000000
DTEND;TZID=America/New_York:20241104T235959
DTSTAMP:20250801T093956Z
URL:https://riccasposa.com/events/ricca-sposa-romania-autumn-2024/
SUMMARY:Ricca Sposa Romania Autumn 2024
DESCRIPTION:
ATTACH;FMTTYPE=image/jpeg:https://riccasposa.com/wp-content/uploads/2024/1
 1/IMG_5895-2.jpeg
CATEGORIES:Trunk Shows
END:VEVENT
BEGIN:VTIMEZONE
TZID:America/New_York
X-LIC-LOCATION:America/New_York
BEGIN:DAYLIGHT
DTSTART:20240310T030000
TZOFFSETFROM:-0500
TZOFFSETTO:-0400
TZNAME:EDT
END:DAYLIGHT
BEGIN:STANDARD
DTSTART:20241103T010000
TZOFFSETFROM:-0400
TZOFFSETTO:-0500
TZNAME:EST
END:STANDARD
END:VTIMEZONE
END:VCALENDAR