


BEGIN:VCALENDAR
VERSION:2.0
PRODID:-//wp-events-plugin.com//7.2.3.1//EN
BEGIN:VEVENT
UID:83@riccasposa.com
DTSTART;TZID=America/New_York:20250801T000000
DTEND;TZID=America/New_York:20250811T235900
DTSTAMP:20250801T094504Z
URL:https://riccasposa.com/events/trunk-show-01-08-2025-11-08-2025-at-wedd
 ing-wardrobe-uk-2/
SUMMARY:Trunk Show 01.08.2025 - 11.08.2025 at Wedding Wardrobe | UK
DESCRIPTION:N/A
ATTACH;FMTTYPE=image/jpeg:https://riccasposa.com/wp-content/uploads/2025/0
 7/file_29.jpg
CATEGORIES:Trunk Shows
LOCATION:Wedding Wardrobe\, London\, UK\, Halifax Estate Agents\, 4 Kenning
 ton Rd\, London SE1 7BL\, UK\, N/A\, SE1 7BL\, United Kingdom
GEO:51.4980777;-0.1124361
X-APPLE-STRUCTURED-LOCATION;VALUE=URI;X-ADDRESS=Halifax Estate Agents\, 4 K
 ennington Rd\, London SE1 7BL\, UK\, N/A\, SE1 7BL\, United Kingdom;X-APPL
 E-RADIUS=100;X-TITLE=Wedding Wardrobe\, London\, UK:geo:51.4980777,-0.1124
 361
END:VEVENT
BEGIN:VTIMEZONE
TZID:America/New_York
X-LIC-LOCATION:America/New_York
BEGIN:DAYLIGHT
DTSTART:20250309T030000
TZOFFSETFROM:-0500
TZOFFSETTO:-0400
TZNAME:EDT
END:DAYLIGHT
END:VTIMEZONE
END:VCALENDAR