


BEGIN:VCALENDAR
VERSION:2.0
PRODID:-//wp-events-plugin.com//7.2.3.1//EN
BEGIN:VEVENT
UID:24@riccasposa.com
DTSTART;TZID=America/New_York:20240801T000000
DTEND;TZID=America/New_York:20240815T235959
DTSTAMP:20250801T094003Z
URL:https://riccasposa.com/events/trunk-show-01-08-24-15-08-24-at-labella-
 bridal-boutique/
SUMMARY:TRUNK SHOW 01.08.24 - 15.08.24 AT Labella Bridal Boutique
DESCRIPTION:
ATTACH;FMTTYPE=image/jpeg:https://riccasposa.com/wp-content/uploads/2024/0
 3/MG_2356-scaled.jpg
CATEGORIES:Trunk Shows
LOCATION:Labella Bridal Boutique USA\, 313 Mill St Occoquan\, VA 22125\, Oc
 coquan\, VA\, 22125\, VA\, United States
GEO:38.684768;-77.261012
X-APPLE-STRUCTURED-LOCATION;VALUE=URI;X-ADDRESS=313 Mill St Occoquan\, VA 2
 2125\, Occoquan\, VA\, 22125\, VA\, United States;X-APPLE-RADIUS=100;X-TIT
 LE=Labella Bridal Boutique USA:geo:38.684768,-77.261012
END:VEVENT
BEGIN:VTIMEZONE
TZID:America/New_York
X-LIC-LOCATION:America/New_York
BEGIN:DAYLIGHT
DTSTART:20240310T030000
TZOFFSETFROM:-0500
TZOFFSETTO:-0400
TZNAME:EDT
END:DAYLIGHT
END:VTIMEZONE
END:VCALENDAR