


BEGIN:VCALENDAR
VERSION:2.0
PRODID:-//wp-events-plugin.com//7.2.3.1//EN
BEGIN:VEVENT
UID:129@riccasposa.com
DTSTART;TZID=America/New_York;VALUE=DATE:20260202
DTEND;TZID=America/New_York;VALUE=DATE:20260209
DTSTAMP:20260128T154415Z
URL:https://riccasposa.com/events/trunk-show-02-02-2026-08-02-2026-at-whit
 e-diamonds-greece/
SUMMARY:Trunk Show 02.02.2026 - 08.02.2026 at White Diamonds | Greece
DESCRIPTION:
ATTACH;FMTTYPE=image/jpeg:https://riccasposa.com/wp-content/uploads/2026/0
 1/file_73.jpg
CATEGORIES:Trunk Shows
LOCATION:White Diamonds | Greece\, Char. Trikoupi 36\, Agrinio 301 31\, Gre
 ece\, Agrinio\, 301 31\, Greece
GEO:38.6209923;21.4099595
X-APPLE-STRUCTURED-LOCATION;VALUE=URI;X-ADDRESS=Char. Trikoupi 36\, Agrinio
  301 31\, Greece\, Agrinio\, 301 31\, Greece;X-APPLE-RADIUS=100;X-TITLE=Wh
 ite Diamonds | Greece:geo:38.6209923,21.4099595
END:VEVENT
BEGIN:VTIMEZONE
TZID:America/New_York
X-LIC-LOCATION:America/New_York
BEGIN:STANDARD
DTSTART:20251102T010000
TZOFFSETFROM:-0400
TZOFFSETTO:-0500
TZNAME:EST
END:STANDARD
END:VTIMEZONE
END:VCALENDAR