


BEGIN:VCALENDAR
VERSION:2.0
PRODID:-//wp-events-plugin.com//7.2.3.1//EN
BEGIN:VEVENT
UID:28@riccasposa.com
DTSTART;TZID=America/New_York:20240702T000000
DTEND;TZID=America/New_York:20240723T235959
DTSTAMP:20250801T093959Z
URL:https://riccasposa.com/events/trunk-show-02-07-23-07-at-neat-couture-g
 ermany/
SUMMARY:TRUNK SHOW 02.07 - 23.07 AT Neat Couture Germany
DESCRIPTION:
ATTACH;FMTTYPE=image/jpeg:https://riccasposa.com/wp-content/uploads/2024/0
 7/MG_5061.jpg
LOCATION:Neat Couture Germany\, Kolosseumstraße 6 80469 München / 0177\, 
 München\, Germany\, 0177\, Germany
GEO:48.130446;11.571383
X-APPLE-STRUCTURED-LOCATION;VALUE=URI;X-ADDRESS=Kolosseumstraße 6 80469 M
 ünchen / 0177\, München\, Germany\, 0177\, Germany;X-APPLE-RADIUS=100;X-
 TITLE=Neat Couture Germany:geo:48.130446,11.571383
END:VEVENT
BEGIN:VTIMEZONE
TZID:America/New_York
X-LIC-LOCATION:America/New_York
BEGIN:DAYLIGHT
DTSTART:20240310T030000
TZOFFSETFROM:-0500
TZOFFSETTO:-0400
TZNAME:EDT
END:DAYLIGHT
END:VTIMEZONE
END:VCALENDAR