


BEGIN:VCALENDAR
VERSION:2.0
PRODID:-//wp-events-plugin.com//7.2.3.1//EN
BEGIN:VEVENT
UID:116@riccasposa.com
DTSTART;TZID=America/New_York;VALUE=DATE:20251003
DTEND;TZID=America/New_York;VALUE=DATE:20251201
DTSTAMP:20251107T134401Z
URL:https://riccasposa.com/events/trunk-show-03-10-2025-30-11-2025-at-brid
 es-of-chester-uk/
SUMMARY:Trunk Show 03.10.2025 - 30.11.2025 at Brides of Chester | UK
DESCRIPTION:
ATTACH;FMTTYPE=image/jpeg:https://riccasposa.com/wp-content/uploads/2025/1
 1/file_60.jpg
CATEGORIES:Trunk Shows
LOCATION:Brides of Chester\, 4 Northgate St\, Chester CH1 2SA\, UK\, CH1 2S
 A\, United Kingdom
GEO:53.1905479;-2.891272
X-APPLE-STRUCTURED-LOCATION;VALUE=URI;X-ADDRESS=4 Northgate St\, Chester CH
 1 2SA\, UK\, CH1 2SA\, United Kingdom;X-APPLE-RADIUS=100;X-TITLE=Brides of
  Chester:geo:53.1905479,-2.891272
END:VEVENT
BEGIN:VTIMEZONE
TZID:America/New_York
X-LIC-LOCATION:America/New_York
BEGIN:DAYLIGHT
DTSTART:20250309T030000
TZOFFSETFROM:-0500
TZOFFSETTO:-0400
TZNAME:EDT
END:DAYLIGHT
BEGIN:STANDARD
DTSTART:20251102T010000
TZOFFSETFROM:-0400
TZOFFSETTO:-0500
TZNAME:EST
END:STANDARD
END:VTIMEZONE
END:VCALENDAR