


BEGIN:VCALENDAR
VERSION:2.0
PRODID:-//wp-events-plugin.com//7.2.3.1//EN
BEGIN:VEVENT
UID:52@riccasposa.com
DTSTART;TZID=America/New_York:20250104T000000
DTEND;TZID=America/New_York:20250111T235959
DTSTAMP:20250801T093951Z
URL:https://riccasposa.com/events/trunk-show-04-01-25-11-01-25-at-posh-bri
 dal-usa-lancaster/
SUMMARY:Trunk show 04.01.25 - 11.01.25 at POSH BRIDAL USA\, Lancaster
DESCRIPTION:Trunk show 04.01.25 - 11.01.25 at POSH BRIDAL USA\, Lancaster
ATTACH;FMTTYPE=image/jpeg:https://riccasposa.com/wp-content/uploads/2025/0
 1/file_6.jpg
CATEGORIES:Trunk Shows
LOCATION:PoshBridal\, 117 S West End Ave\, Lancaster\, PA 17603\, Lancaster
 \, PA\, 17603\, PA\, United States
GEO:40.036718;-76.323658
X-APPLE-STRUCTURED-LOCATION;VALUE=URI;X-ADDRESS=117 S West End Ave\, Lancas
 ter\, PA 17603\, Lancaster\, PA\, 17603\, PA\, United States;X-APPLE-RADIU
 S=100;X-TITLE=PoshBridal:geo:40.036718,-76.323658
END:VEVENT
BEGIN:VTIMEZONE
TZID:America/New_York
X-LIC-LOCATION:America/New_York
BEGIN:STANDARD
DTSTART:20241103T010000
TZOFFSETFROM:-0400
TZOFFSETTO:-0500
TZNAME:EST
END:STANDARD
END:VTIMEZONE
END:VCALENDAR