


BEGIN:VCALENDAR
VERSION:2.0
PRODID:-//wp-events-plugin.com//7.2.3.1//EN
BEGIN:VEVENT
UID:78@riccasposa.com
DTSTART;TZID=America/New_York:20250704T000000
DTEND;TZID=America/New_York:20250728T235959
DTSTAMP:20250801T094419Z
URL:https://riccasposa.com/events/trunk-show-04-07-2025-28-07-2025-at-one-
 eleven-collective-usa-2/
SUMMARY:Trunk Show 04.07.2025 - 28.07.2025 at One Eleven Collective | USA
DESCRIPTION:N/A
ATTACH;FMTTYPE=image/jpeg:https://riccasposa.com/wp-content/uploads/2025/0
 7/file_26.jpg
CATEGORIES:Trunk Shows
LOCATION:One Eleven Collective | Albany\, NY\, USA\, 111 State St\, Albany\
 , NY 12207\, USA\, Albany\, 12207\, United States
GEO:42.6511245;-73.7545322
X-APPLE-STRUCTURED-LOCATION;VALUE=URI;X-ADDRESS=111 State St\, Albany\, NY 
 12207\, USA\, Albany\, 12207\, United States;X-APPLE-RADIUS=100;X-TITLE=On
 e Eleven Collective | Albany\, NY\, USA:geo:42.6511245,-73.7545322
END:VEVENT
BEGIN:VTIMEZONE
TZID:America/New_York
X-LIC-LOCATION:America/New_York
BEGIN:DAYLIGHT
DTSTART:20250309T030000
TZOFFSETFROM:-0500
TZOFFSETTO:-0400
TZNAME:EDT
END:DAYLIGHT
END:VTIMEZONE
END:VCALENDAR