


BEGIN:VCALENDAR
VERSION:2.0
PRODID:-//wp-events-plugin.com//7.2.3.1//EN
BEGIN:VEVENT
UID:60@riccasposa.com
DTSTART;TZID=America/New_York:20250506T000000
DTEND;TZID=America/New_York:20250519T235959
DTSTAMP:20250801T093947Z
URL:https://riccasposa.com/events/trunk-show-06-05-25-19-05-25-at-hummingb
 ird-bridal-studio-united-kingdom-2/
SUMMARY:Trunk show 06.05.25 - 19.05.25 at Hummingbird Bridal Studio | Unite
 d Kingdom
DESCRIPTION:We are thrilled to invite you to explore our stunning 2025 coll
 ection  at our exclusive trunk show in Stocksbridge\, United Kingdom.\nMar
 k your calendars for May 6-19\, 2025\, to experience the brilliance of LOV
 E by Ricca Sposa’s designs. Appointments are limited\, so don’t wait t
 o secure your spot and discover the perfect gown that will make your brida
 l dreams come true. We can’t wait to welcome you!
ATTACH;FMTTYPE=image/jpeg:https://riccasposa.com/wp-content/uploads/2025/0
 5/file_12.jpg
CATEGORIES:Trunk Shows
LOCATION:Hummingbird Bridal Studio\, Fox Valley Way\, Sheffield S36 2AB\, U
 K\, N/A\, S36 2AB\, United Kingdom
GEO:53.483265;-1.5882819
X-APPLE-STRUCTURED-LOCATION;VALUE=URI;X-ADDRESS=Fox Valley Way\, Sheffield 
 S36 2AB\, UK\, N/A\, S36 2AB\, United Kingdom;X-APPLE-RADIUS=100;X-TITLE=H
 ummingbird Bridal Studio:geo:53.483265,-1.5882819
END:VEVENT
BEGIN:VTIMEZONE
TZID:America/New_York
X-LIC-LOCATION:America/New_York
BEGIN:DAYLIGHT
DTSTART:20250309T030000
TZOFFSETFROM:-0500
TZOFFSETTO:-0400
TZNAME:EDT
END:DAYLIGHT
END:VTIMEZONE
END:VCALENDAR