


BEGIN:VCALENDAR
VERSION:2.0
PRODID:-//wp-events-plugin.com//7.2.3.1//EN
BEGIN:VEVENT
UID:109@riccasposa.com
DTSTART;TZID=America/New_York;VALUE=DATE:20251006
DTEND;TZID=America/New_York;VALUE=DATE:20251019
DTSTAMP:20250930T100529Z
URL:https://riccasposa.com/events/trunk-show-06-10-2025-18-10-2025-at-slub
 ne-atelier-poland/
SUMMARY:Trunk Show 06.10.2025 - 18.10.2025 at SLUBNE ATELIER | Poland
DESCRIPTION:
ATTACH;FMTTYPE=image/jpeg:https://riccasposa.com/wp-content/uploads/2025/0
 9/1-6.jpg
CATEGORIES:Trunk Shows
LOCATION:SLUBNE ATELIER\, Zamojska 12\, 20-102 Lublin\, Poland\, Lublin\, 2
 0-102\, Poland
GEO:51.2418015;22.5695203
X-APPLE-STRUCTURED-LOCATION;VALUE=URI;X-ADDRESS=Zamojska 12\, 20-102 Lublin
 \, Poland\, Lublin\, 20-102\, Poland;X-APPLE-RADIUS=100;X-TITLE=SLUBNE ATE
 LIER:geo:51.2418015,22.5695203
END:VEVENT
BEGIN:VTIMEZONE
TZID:America/New_York
X-LIC-LOCATION:America/New_York
BEGIN:DAYLIGHT
DTSTART:20250309T030000
TZOFFSETFROM:-0500
TZOFFSETTO:-0400
TZNAME:EDT
END:DAYLIGHT
END:VTIMEZONE
END:VCALENDAR