


BEGIN:VCALENDAR
VERSION:2.0
PRODID:-//wp-events-plugin.com//7.2.3.1//EN
BEGIN:VEVENT
UID:133@riccasposa.com
DTSTART;TZID=America/New_York;VALUE=DATE:20260207
DTEND;TZID=America/New_York;VALUE=DATE:20260218
DTSTAMP:20260209T093408Z
URL:https://riccasposa.com/events/trunk-show-07-02-2026-17-02-2026-at-le-b
 ella-donna-bridal-usa/
SUMMARY:Trunk Show 07.02.2026 - 17.02.2026 at Le Bella Donna Bridal | USA
DESCRIPTION:
ATTACH;FMTTYPE=image/jpeg:https://riccasposa.com/wp-content/uploads/2026/0
 2/file_77.jpg
CATEGORIES:Trunk Shows
LOCATION:Le Bella Donna Bridal | USA\, 28 W State St\, Doylestown\, PA 1890
 1\, USA\, Doylestown\, 18901\, United States
GEO:40.309535;-75.1310848
X-APPLE-STRUCTURED-LOCATION;VALUE=URI;X-ADDRESS=28 W State St\, Doylestown\
 , PA 18901\, USA\, Doylestown\, 18901\, United States;X-APPLE-RADIUS=100;X
 -TITLE=Le Bella Donna Bridal | USA:geo:40.309535,-75.1310848
END:VEVENT
BEGIN:VTIMEZONE
TZID:America/New_York
X-LIC-LOCATION:America/New_York
BEGIN:STANDARD
DTSTART:20251102T010000
TZOFFSETFROM:-0400
TZOFFSETTO:-0500
TZNAME:EST
END:STANDARD
END:VTIMEZONE
END:VCALENDAR