


BEGIN:VCALENDAR
VERSION:2.0
PRODID:-//wp-events-plugin.com//7.2.3.1//EN
BEGIN:VEVENT
UID:114@riccasposa.com
DTSTART;TZID=America/New_York;VALUE=DATE:20251107
DTEND;TZID=America/New_York;VALUE=DATE:20251110
DTSTAMP:20251107T130634Z
URL:https://riccasposa.com/events/trunk-show-07-11-2025-09-11-2025-at-ricc
 a-sposa-romania/
SUMMARY:Trunk Show 07.11.2025 - 09.11.2025 at Ricca Sposa | Romania
DESCRIPTION:10% discount on all orders placed from November 7th to 9th
ATTACH;FMTTYPE=image/jpeg:https://riccasposa.com/wp-content/uploads/2025/1
 1/file_58.jpg
CATEGORIES:Trunk Shows
LOCATION:Ricca Sposa Bucharest\, Bulevardul Libertății 3\, București\, R
 omania\, București\, Romania
GEO:44.4223621;26.0893634
X-APPLE-STRUCTURED-LOCATION;VALUE=URI;X-ADDRESS=Bulevardul Libertății 3\,
  București\, Romania\, București\, Romania;X-APPLE-RADIUS=100;X-TITLE=Ri
 cca Sposa Bucharest:geo:44.4223621,26.0893634
END:VEVENT
BEGIN:VTIMEZONE
TZID:America/New_York
X-LIC-LOCATION:America/New_York
BEGIN:STANDARD
DTSTART:20251102T010000
TZOFFSETFROM:-0400
TZOFFSETTO:-0500
TZNAME:EST
END:STANDARD
END:VTIMEZONE
END:VCALENDAR