


BEGIN:VCALENDAR
VERSION:2.0
PRODID:-//wp-events-plugin.com//7.2.3.1//EN
BEGIN:VEVENT
UID:128@riccasposa.com
DTSTART;TZID=America/New_York;VALUE=DATE:20260309
DTEND;TZID=America/New_York;VALUE=DATE:20260317
DTSTAMP:20260128T153458Z
URL:https://riccasposa.com/events/trunk-show-09-03-2026-16-03-2026-at-kate
 rina-bridal-greece/
SUMMARY:Trunk Show 09.03.2026 - 16.03.2026 at Katerina Bridal | Greece
DESCRIPTION:
ATTACH;FMTTYPE=image/jpeg:https://riccasposa.com/wp-content/uploads/2026/0
 1/file_72.jpg
CATEGORIES:Trunk Shows
LOCATION:Katerina Bridal | Greece\, Edessis 19\, Veria 591 32\, Greece\, Ve
 ria\, 591 32\, Greece
GEO:40.5259972;22.2049915
X-APPLE-STRUCTURED-LOCATION;VALUE=URI;X-ADDRESS=Edessis 19\, Veria 591 32\,
  Greece\, Veria\, 591 32\, Greece;X-APPLE-RADIUS=100;X-TITLE=Katerina Brid
 al | Greece:geo:40.5259972,22.2049915
END:VEVENT
BEGIN:VTIMEZONE
TZID:America/New_York
X-LIC-LOCATION:America/New_York
BEGIN:DAYLIGHT
DTSTART:20260308T030000
TZOFFSETFROM:-0500
TZOFFSETTO:-0400
TZNAME:EDT
END:DAYLIGHT
END:VTIMEZONE
END:VCALENDAR