


BEGIN:VCALENDAR
VERSION:2.0
PRODID:-//wp-events-plugin.com//7.2.3.1//EN
BEGIN:VEVENT
UID:84@riccasposa.com
DTSTART;TZID=America/New_York;VALUE=DATE:20250611
DTEND;TZID=America/New_York;VALUE=DATE:20250901
DTSTAMP:20250820T150245Z
URL:https://riccasposa.com/events/trunk-show-11-06-2025-31-08-2025-at-wedd
 ing-world-germany/
SUMMARY:Trunk Show 11.06.2025 - 31.08.2025 at Wedding World | Germany
DESCRIPTION:N/A
ATTACH;FMTTYPE=image/jpeg:https://riccasposa.com/wp-content/uploads/2025/0
 8/file_30.jpg
CATEGORIES:Trunk Shows
LOCATION:Wedding World Oberhausen\, Germany\, Brammenring 12\, 46047 Oberha
 usen\, Germany\, Oberhausen\, 46047\, Germany
GEO:51.4860563;6.8848926
X-APPLE-STRUCTURED-LOCATION;VALUE=URI;X-ADDRESS=Brammenring 12\, 46047 Ober
 hausen\, Germany\, Oberhausen\, 46047\, Germany;X-APPLE-RADIUS=100;X-TITLE
 =Wedding World Oberhausen\, Germany:geo:51.4860563,6.8848926
END:VEVENT
BEGIN:VTIMEZONE
TZID:America/New_York
X-LIC-LOCATION:America/New_York
BEGIN:DAYLIGHT
DTSTART:20250309T030000
TZOFFSETFROM:-0500
TZOFFSETTO:-0400
TZNAME:EDT
END:DAYLIGHT
END:VTIMEZONE
END:VCALENDAR