


BEGIN:VCALENDAR
VERSION:2.0
PRODID:-//wp-events-plugin.com//7.2.3.1//EN
BEGIN:VEVENT
UID:71@riccasposa.com
DTSTART;TZID=America/New_York:20250611T000000
DTEND;TZID=America/New_York:20250718T235959
DTSTAMP:20250801T093943Z
URL:https://riccasposa.com/events/trunk-show-11-06-25-18-07-25-at-wedding-
 world-oberhausen-germany/
SUMMARY:Trunk show 11.06.25 - 18.07.25 at Wedding World Oberhausen | German
 y
DESCRIPTION:We are thrilled to invite you to explore our stunning 2025 coll
 ections at our exclusive trunk show in Wedding World Boutique\, Germany.\n
 Mark your calendars for June 11 to July 18\, 2025\, to experience the bril
 liance of Dance of Puglia and Whisper of Temptation collections. Appointme
 nts are limited\, so don’t wait to secure your spot and discover the per
 fect gown that will make your bridal dreams come true. We can’t wait to 
 welcome you!
ATTACH;FMTTYPE=image/jpeg:https://riccasposa.com/wp-content/uploads/2025/0
 6/file_21.jpg
CATEGORIES:Trunk Shows
LOCATION:Wedding World Oberhausen\, Germany\, Brammenring 12\, 46047 Oberha
 usen\, Germany\, Oberhausen\, 46047\, Germany
GEO:51.4860563;6.8848926
X-APPLE-STRUCTURED-LOCATION;VALUE=URI;X-ADDRESS=Brammenring 12\, 46047 Ober
 hausen\, Germany\, Oberhausen\, 46047\, Germany;X-APPLE-RADIUS=100;X-TITLE
 =Wedding World Oberhausen\, Germany:geo:51.4860563,6.8848926
END:VEVENT
BEGIN:VTIMEZONE
TZID:America/New_York
X-LIC-LOCATION:America/New_York
BEGIN:DAYLIGHT
DTSTART:20250309T030000
TZOFFSETFROM:-0500
TZOFFSETTO:-0400
TZNAME:EDT
END:DAYLIGHT
END:VTIMEZONE
END:VCALENDAR