


BEGIN:VCALENDAR
VERSION:2.0
PRODID:-//wp-events-plugin.com//7.2.3.1//EN
BEGIN:VEVENT
UID:12@riccasposa.com
DTSTART;TZID=America/New_York:20240301T000000
DTEND;TZID=America/New_York:20240310T235959
DTSTAMP:20250801T094006Z
URL:https://riccasposa.com/events/trunk-show-12-02-26-02-at-perla-bridal-l
 as-vegas/
SUMMARY:TRUNK SHOW 1.03 - 10.03 at Perla Bridal (Las Vegas)
DESCRIPTION:
ATTACH;FMTTYPE=image/jpeg:https://riccasposa.com/wp-content/uploads/2024/0
 2/IMG_0477.jpeg
LOCATION:Perla Bridal\,  6639 Las Vegas blvd.\, Suite K129 Las Vegas\, Neva
 da\, Las Vegas\, Nevada\, United States
GEO:36.068752;-115.177066
X-APPLE-STRUCTURED-LOCATION;VALUE=URI;X-ADDRESS= 6639 Las Vegas blvd.\, Sui
 te K129 Las Vegas\, Nevada\, Las Vegas\, Nevada\, United States;X-APPLE-RA
 DIUS=100;X-TITLE=Perla Bridal:geo:36.068752,-115.177066
END:VEVENT
BEGIN:VTIMEZONE
TZID:America/New_York
X-LIC-LOCATION:America/New_York
BEGIN:STANDARD
DTSTART:20231105T010000
TZOFFSETFROM:-0400
TZOFFSETTO:-0500
TZNAME:EST
END:STANDARD
BEGIN:DAYLIGHT
DTSTART:20240310T030000
TZOFFSETFROM:-0500
TZOFFSETTO:-0400
TZNAME:EDT
END:DAYLIGHT
END:VTIMEZONE
END:VCALENDAR