


BEGIN:VCALENDAR
VERSION:2.0
PRODID:-//wp-events-plugin.com//7.2.3.1//EN
BEGIN:VEVENT
UID:66@riccasposa.com
DTSTART;TZID=America/New_York:20250612T000000
DTEND;TZID=America/New_York:20250623T235959
DTSTAMP:20250801T093944Z
URL:https://riccasposa.com/events/trunk-show-12-06-25-23-06-25-at-white-ca
 nvas-bridal-united-kingdom/
SUMMARY:Trunk show 12.06.25 - 23.06.25 at White Canvas Bridal | United King
 dom
DESCRIPTION:We are thrilled to invite you to explore our stunning LOVE by R
 icca Sposa 2025 collection at our exclusive trunk show in White Canvas Bri
 dal Boutique\, United Kingdom.\nMark your calendars for June 12  to June 2
 3\, 2025\, to experience the brilliance Dance of Puglia collection. Appoin
 tments are limited\, so don’t wait to secure your spot and discover the 
 perfect gown that will make your bridal dreams come true. We can’t wait 
 to welcome you!
ATTACH;FMTTYPE=image/jpeg:https://riccasposa.com/wp-content/uploads/2025/0
 6/file_15.jpg
CATEGORIES:Trunk Shows
LOCATION:White Canvas Bridal Boutique\, Brewery Yard\, Sheep St\, Stow-on-t
 he-Wold\, Cheltenham GL54 1AA\, UK\, Stow-on-the-Wold\, GL54 1AA\, United 
 Kingdom
GEO:51.9289412;-1.7219654
X-APPLE-STRUCTURED-LOCATION;VALUE=URI;X-ADDRESS=Brewery Yard\, Sheep St\, S
 tow-on-the-Wold\, Cheltenham GL54 1AA\, UK\, Stow-on-the-Wold\, GL54 1AA\,
  United Kingdom;X-APPLE-RADIUS=100;X-TITLE=White Canvas Bridal Boutique:ge
 o:51.9289412,-1.7219654
END:VEVENT
BEGIN:VTIMEZONE
TZID:America/New_York
X-LIC-LOCATION:America/New_York
BEGIN:DAYLIGHT
DTSTART:20250309T030000
TZOFFSETFROM:-0500
TZOFFSETTO:-0400
TZNAME:EDT
END:DAYLIGHT
END:VTIMEZONE
END:VCALENDAR