


BEGIN:VCALENDAR
VERSION:2.0
PRODID:-//wp-events-plugin.com//7.2.3.1//EN
BEGIN:VEVENT
UID:25@riccasposa.com
DTSTART;TZID=America/New_York:20240812T000000
DTEND;TZID=America/New_York:20240902T235959
DTSTAMP:20250801T094002Z
URL:https://riccasposa.com/events/trunk-show-12-08-24-02-09-24-at-posh-bri
 dal/
SUMMARY:TRUNK SHOW 12.08.24 - 02.09.24 AT Posh Bridal
DESCRIPTION:
ATTACH;FMTTYPE=image/jpeg:https://riccasposa.com/wp-content/uploads/2024/0
 7/24-016-3.jpg
CATEGORIES:Trunk Shows
LOCATION:PoshBridal\, 117 S West End Ave\, Lancaster\, PA 17603\, Lancaster
 \, PA\, 17603\, PA\, United States
GEO:40.036718;-76.323658
X-APPLE-STRUCTURED-LOCATION;VALUE=URI;X-ADDRESS=117 S West End Ave\, Lancas
 ter\, PA 17603\, Lancaster\, PA\, 17603\, PA\, United States;X-APPLE-RADIU
 S=100;X-TITLE=PoshBridal:geo:40.036718,-76.323658
END:VEVENT
BEGIN:VTIMEZONE
TZID:America/New_York
X-LIC-LOCATION:America/New_York
BEGIN:DAYLIGHT
DTSTART:20240310T030000
TZOFFSETFROM:-0500
TZOFFSETTO:-0400
TZNAME:EDT
END:DAYLIGHT
END:VTIMEZONE
END:VCALENDAR