


BEGIN:VCALENDAR
VERSION:2.0
PRODID:-//wp-events-plugin.com//7.2.3.1//EN
BEGIN:VEVENT
UID:34@riccasposa.com
DTSTART;TZID=America/New_York:20241012T000000
DTEND;TZID=America/New_York:20241115T235959
DTSTAMP:20250801T093955Z
URL:https://riccasposa.com/events/trunk-show-12-10-15-11-in-pickyglam-brid
 al-shop/
SUMMARY:Trunk show 12.10 - 15.11 in Pickyglam Bridal Shop
DESCRIPTION:
ATTACH;FMTTYPE=image/jpeg:https://riccasposa.com/wp-content/uploads/2024/1
 1/IMG_5894.jpeg
CATEGORIES:Trunk Shows
LOCATION:Pickyglam\, W3192 County Rd KK\, Suite G\, Appleton\, WI 54915\, A
 ppleton\, USA\, 54915\, WI \, United States
GEO:44.245412;-88.3489
X-APPLE-STRUCTURED-LOCATION;VALUE=URI;X-ADDRESS=W3192 County Rd KK\, Suite 
 G\, Appleton\, WI 54915\, Appleton\, USA\, 54915\, WI \, United States;X-A
 PPLE-RADIUS=100;X-TITLE=Pickyglam:geo:44.245412,-88.3489
END:VEVENT
BEGIN:VTIMEZONE
TZID:America/New_York
X-LIC-LOCATION:America/New_York
BEGIN:DAYLIGHT
DTSTART:20240310T030000
TZOFFSETFROM:-0500
TZOFFSETTO:-0400
TZNAME:EDT
END:DAYLIGHT
BEGIN:STANDARD
DTSTART:20241103T010000
TZOFFSETFROM:-0400
TZOFFSETTO:-0500
TZNAME:EST
END:STANDARD
END:VTIMEZONE
END:VCALENDAR