


BEGIN:VCALENDAR
VERSION:2.0
PRODID:-//wp-events-plugin.com//7.2.3.1//EN
BEGIN:VEVENT
UID:130@riccasposa.com
DTSTART;TZID=America/New_York;VALUE=DATE:20260213
DTEND;TZID=America/New_York;VALUE=DATE:20260220
DTSTAMP:20260128T160146Z
URL:https://riccasposa.com/events/trunk-show-13-02-2026-19-02-2026-at-pole
 ntas-atelier-greece/
SUMMARY:Trunk Show 13.02.2026 - 19.02.2026 at Polentas Atelier | Greece
DESCRIPTION:
ATTACH;FMTTYPE=image/jpeg:https://riccasposa.com/wp-content/uploads/2026/0
 1/file_74.jpg
CATEGORIES:Trunk Shows
LOCATION:Polentas Atelier | Greece\, Mark. Mpotsari\, Chania\, Greece\, Cha
 nia\, Greece
GEO:35.5102308;24.0158529
X-APPLE-STRUCTURED-LOCATION;VALUE=URI;X-ADDRESS=Mark. Mpotsari\, Chania\, G
 reece\, Chania\, Greece;X-APPLE-RADIUS=100;X-TITLE=Polentas Atelier | Gree
 ce:geo:35.5102308,24.0158529
END:VEVENT
BEGIN:VTIMEZONE
TZID:America/New_York
X-LIC-LOCATION:America/New_York
BEGIN:STANDARD
DTSTART:20251102T010000
TZOFFSETFROM:-0400
TZOFFSETTO:-0500
TZNAME:EST
END:STANDARD
END:VTIMEZONE
END:VCALENDAR