


BEGIN:VCALENDAR
VERSION:2.0
PRODID:-//wp-events-plugin.com//7.2.3.1//EN
BEGIN:VEVENT
UID:73@riccasposa.com
DTSTART;TZID=America/New_York:20250613T000000
DTEND;TZID=America/New_York:20250615T235959
DTSTAMP:20250801T093941Z
URL:https://riccasposa.com/events/trunk-show-13-06-2025-15-06-2025-at-lano
 ire-bridal-usa/
SUMMARY:Trunk Show 13.06.2025 - 15.06.2025 at Lanoire Bridal | USA
DESCRIPTION:We are thrilled to invite you to explore our stunning 2025 coll
 ections at our exclusive trunk show in Lanoire Bridal\, USA.\nMark your ca
 lendars for June 13 to June 15\, 2025\, to experience the brilliance of Wh
 isper of Temptation collection and Soft Flow collection. Appointments are 
 limited\, so don’t wait to secure your spot and discover the perfect gow
 n that will make your bridal dreams come true. We can’t wait to welcome 
 you!
ATTACH;FMTTYPE=image/jpeg:https://riccasposa.com/wp-content/uploads/2025/0
 6/file_23.jpg
CATEGORIES:Trunk Shows
LOCATION:Lanoire Bridal MN USA\, 5 7th St W\, St Paul\, MN 55102\, USA\, Sa
 int Paul\, 55102\, United States
GEO:44.9481477;-93.0973665
X-APPLE-STRUCTURED-LOCATION;VALUE=URI;X-ADDRESS=5 7th St W\, St Paul\, MN 5
 5102\, USA\, Saint Paul\, 55102\, United States;X-APPLE-RADIUS=100;X-TITLE
 =Lanoire Bridal MN USA:geo:44.9481477,-93.0973665
END:VEVENT
BEGIN:VTIMEZONE
TZID:America/New_York
X-LIC-LOCATION:America/New_York
BEGIN:DAYLIGHT
DTSTART:20250309T030000
TZOFFSETFROM:-0500
TZOFFSETTO:-0400
TZNAME:EDT
END:DAYLIGHT
END:VTIMEZONE
END:VCALENDAR