


BEGIN:VCALENDAR
VERSION:2.0
PRODID:-//wp-events-plugin.com//7.2.3.1//EN
BEGIN:VEVENT
UID:53@riccasposa.com
DTSTART;TZID=America/New_York:20250115T000000
DTEND;TZID=America/New_York:20250129T235959
DTSTAMP:20250801T093951Z
URL:https://riccasposa.com/events/trunk-show-15-01-25-29-01-25-at-yris-bri
 dal-design-studio-%f0%9f%87%ba%f0%9f%87%b8-rhode-island/
SUMMARY:Trunk show 15.01.25 - 29.01.25 at Yris Bridal Design Studio 🇺
 🇸 Rhode Island
DESCRIPTION:We are thrilled to invite you to explore our stunning collectio
 ns\, Whisper of Temptation and Soft Flow\, at our exclusive trunk show in 
 Rhode Island\, USA.\n\nMark your calendars for January 15–29\, 2025\, to
  experience the brilliance of Ricca Sposa’s latest designs. Appointments
  are limited\, so don’t wait to secure your spot and discover the perfec
 t gown that will make your bridal dreams come true. We can’t wait to wel
 come you!
ATTACH;FMTTYPE=image/jpeg:https://riccasposa.com/wp-content/uploads/2025/0
 1/file_7.jpg
CATEGORIES:Trunk Shows
LOCATION:Yris Bridal Design Studio\, 9 E Main St\, West Warwick\, RI 02893\
 , USA\, West Warwick\, 02893\, United States
GEO:41.7151225;-71.523364
X-APPLE-STRUCTURED-LOCATION;VALUE=URI;X-ADDRESS=9 E Main St\, West Warwick\
 , RI 02893\, USA\, West Warwick\, 02893\, United States;X-APPLE-RADIUS=100
 ;X-TITLE=Yris Bridal Design Studio:geo:41.7151225,-71.523364
END:VEVENT
BEGIN:VTIMEZONE
TZID:America/New_York
X-LIC-LOCATION:America/New_York
BEGIN:STANDARD
DTSTART:20241103T010000
TZOFFSETFROM:-0400
TZOFFSETTO:-0500
TZNAME:EST
END:STANDARD
END:VTIMEZONE
END:VCALENDAR