


BEGIN:VCALENDAR
VERSION:2.0
PRODID:-//wp-events-plugin.com//7.2.3.1//EN
BEGIN:VEVENT
UID:134@riccasposa.com
DTSTART;TZID=America/New_York;VALUE=DATE:20260215
DTEND;TZID=America/New_York;VALUE=DATE:20260223
DTSTAMP:20260209T095652Z
URL:https://riccasposa.com/events/trunk-show-15-02-2026-22-02-2026-at-atel
 ier-bianca-usa/
SUMMARY:Trunk Show 15.02.2026 - 22.02.2026 at Atelier Bianca | USA
DESCRIPTION:
ATTACH;FMTTYPE=image/jpeg:https://riccasposa.com/wp-content/uploads/2026/0
 2/file_78.jpg
CATEGORIES:Trunk Shows
LOCATION:Atelier Bianca | USA\, 741 Warren St\, Hudson\, NY 12534\, USA\, H
 udson\, 12534\, United States
GEO:42.2461011;-73.7823463
X-APPLE-STRUCTURED-LOCATION;VALUE=URI;X-ADDRESS=741 Warren St\, Hudson\, NY
  12534\, USA\, Hudson\, 12534\, United States;X-APPLE-RADIUS=100;X-TITLE=A
 telier Bianca | USA:geo:42.2461011,-73.7823463
END:VEVENT
BEGIN:VTIMEZONE
TZID:America/New_York
X-LIC-LOCATION:America/New_York
BEGIN:STANDARD
DTSTART:20251102T010000
TZOFFSETFROM:-0400
TZOFFSETTO:-0500
TZNAME:EST
END:STANDARD
END:VTIMEZONE
END:VCALENDAR