


BEGIN:VCALENDAR
VERSION:2.0
PRODID:-//wp-events-plugin.com//7.2.3.1//EN
BEGIN:VEVENT
UID:62@riccasposa.com
DTSTART;TZID=America/New_York:20250616T000000
DTEND;TZID=America/New_York:20250707T235959
DTSTAMP:20250801T093945Z
URL:https://riccasposa.com/events/trunk-show-16-06-25-30-06-25-at-dress-dr
 eams-bridal-boutique-united-kingdom/
SUMMARY:Trunk show 16.06.25 -07.07.25 at Dress Dreams Bridal Boutique | Uni
 ted Kingdom
DESCRIPTION:We are thrilled to invite you to explore our stunning 2026 coll
 ections at our exclusive trunk show in Dress Dreams Bridal Boutique\, Unit
 ed Kingdom.\nMark your calendars for June 16 to June 30\, 2025\, to experi
 ence the brilliance of Ricca Sposa couture 2026 collection\, Ricca Sposa A
 TELIER 2026 collection and LOVE by Ricca Sposa’s designs. Appointments a
 re limited\, so don’t wait to secure your spot and discover the perfect 
 gown that will make your bridal dreams come true. We can’t wait to welco
 me you!
ATTACH;FMTTYPE=image/jpeg:https://riccasposa.com/wp-content/uploads/2025/0
 6/file_14.jpg
CATEGORIES:Trunk Shows
LOCATION:Dress Dreams Bridal Boutique\, 61 Calverley Rd\, Royal Tunbridge W
 ells\, Tunbridge Wells TN1 2UY\, UK\, Royal Tunbridge Wells\, TN1 2UY\, Un
 ited Kingdom
GEO:51.1335506;0.2672689
X-APPLE-STRUCTURED-LOCATION;VALUE=URI;X-ADDRESS=61 Calverley Rd\, Royal Tun
 bridge Wells\, Tunbridge Wells TN1 2UY\, UK\, Royal Tunbridge Wells\, TN1 
 2UY\, United Kingdom;X-APPLE-RADIUS=100;X-TITLE=Dress Dreams Bridal Boutiq
 ue:geo:51.1335506,0.2672689
END:VEVENT
BEGIN:VTIMEZONE
TZID:America/New_York
X-LIC-LOCATION:America/New_York
BEGIN:DAYLIGHT
DTSTART:20250309T030000
TZOFFSETFROM:-0500
TZOFFSETTO:-0400
TZNAME:EDT
END:DAYLIGHT
END:VTIMEZONE
END:VCALENDAR