


BEGIN:VCALENDAR
VERSION:2.0
PRODID:-//wp-events-plugin.com//7.2.3.1//EN
BEGIN:VEVENT
UID:80@riccasposa.com
DTSTART;TZID=America/New_York:20250716T000000
DTEND;TZID=America/New_York:20250728T235959
DTSTAMP:20250801T094417Z
URL:https://riccasposa.com/events/trunk-show-16-07-2025-28-07-2025-at-yasm
 in-rose-bridal-uk/
SUMMARY:Trunk Show 16.07.2025 - 28.07.2025 at Yasmin Rose Bridal | UK
DESCRIPTION:
ATTACH;FMTTYPE=image/jpeg:https://riccasposa.com/wp-content/uploads/2025/0
 7/file_27.jpg
CATEGORIES:Trunk Shows
LOCATION:Yasmin Rose Bridal\, Morfa Ln\, Wenvoe\, Cardiff CF5 6AE\, UK\, We
 nvoe\, CF5 6AE\, United Kingdom
GEO:51.445024;-3.2618359
X-APPLE-STRUCTURED-LOCATION;VALUE=URI;X-ADDRESS=Morfa Ln\, Wenvoe\, Cardiff
  CF5 6AE\, UK\, Wenvoe\, CF5 6AE\, United Kingdom;X-APPLE-RADIUS=100;X-TIT
 LE=Yasmin Rose Bridal:geo:51.445024,-3.2618359
END:VEVENT
BEGIN:VTIMEZONE
TZID:America/New_York
X-LIC-LOCATION:America/New_York
BEGIN:DAYLIGHT
DTSTART:20250309T030000
TZOFFSETFROM:-0500
TZOFFSETTO:-0400
TZNAME:EDT
END:DAYLIGHT
END:VTIMEZONE
END:VCALENDAR