


BEGIN:VCALENDAR
VERSION:2.0
PRODID:-//wp-events-plugin.com//7.2.3.1//EN
BEGIN:VEVENT
UID:27@riccasposa.com
DTSTART;TZID=America/New_York:20240819T000000
DTEND;TZID=America/New_York:20240902T235959
DTSTAMP:20250801T094000Z
URL:https://riccasposa.com/events/trunk-show-19-08-02-09-at-calees-brautlo
 unge-germany/
SUMMARY:TRUNK SHOW 19.08 - 02.09 AT Calees Brautlounge Germany
DESCRIPTION:
ATTACH;FMTTYPE=image/jpeg:https://riccasposa.com/wp-content/uploads/2024/0
 7/MG_3566.jpg
CATEGORIES:Trunk Shows
LOCATION:Calees Brautlounge Germany\, Liesegangstraße 20\, 40211 Düsseldo
 rf\, Düsseldorf\, Germany\, 40211\, Germany
GEO:51.22583;6.786939
X-APPLE-STRUCTURED-LOCATION;VALUE=URI;X-ADDRESS=Liesegangstraße 20\, 40211
  Düsseldorf\, Düsseldorf\, Germany\, 40211\, Germany;X-APPLE-RADIUS=100;
 X-TITLE=Calees Brautlounge Germany:geo:51.22583,6.786939
END:VEVENT
BEGIN:VTIMEZONE
TZID:America/New_York
X-LIC-LOCATION:America/New_York
BEGIN:DAYLIGHT
DTSTART:20240310T030000
TZOFFSETFROM:-0500
TZOFFSETTO:-0400
TZNAME:EDT
END:DAYLIGHT
END:VTIMEZONE
END:VCALENDAR