


BEGIN:VCALENDAR
VERSION:2.0
PRODID:-//wp-events-plugin.com//7.2.3.1//EN
BEGIN:VEVENT
UID:101@riccasposa.com
DTSTART;TZID=America/New_York;VALUE=DATE:20250820
DTEND;TZID=America/New_York;VALUE=DATE:20250911
DTSTAMP:20250825T062331Z
URL:https://riccasposa.com/events/trunk-show-20-08-2025-10-09-2025-at-pron
 uptia-bridal-uk/
SUMMARY:Trunk Show 20.08.2025 - 10.09.2025 at Pronuptia Bridal | UK
DESCRIPTION:
ATTACH;FMTTYPE=image/jpeg:https://riccasposa.com/wp-content/uploads/2025/0
 8/file_45.jpg
CATEGORIES:Trunk Shows
LOCATION:Pronuptia Bridal / UK\, 16 Wellington Place Belfast\, United Kingd
 om\, 
X-APPLE-STRUCTURED-LOCATION;VALUE=URI;X-ADDRESS=16 Wellington Place Belfast
 \, United Kingdom\, ;X-APPLE-RADIUS=100;X-TITLE=Pronuptia Bridal / UK:geo:
 0,0
END:VEVENT
BEGIN:VTIMEZONE
TZID:America/New_York
X-LIC-LOCATION:America/New_York
BEGIN:DAYLIGHT
DTSTART:20250309T030000
TZOFFSETFROM:-0500
TZOFFSETTO:-0400
TZNAME:EDT
END:DAYLIGHT
END:VTIMEZONE
END:VCALENDAR