


BEGIN:VCALENDAR
VERSION:2.0
PRODID:-//wp-events-plugin.com//7.2.3.1//EN
BEGIN:VEVENT
UID:125@riccasposa.com
DTSTART;TZID=America/New_York;VALUE=DATE:20260122
DTEND;TZID=America/New_York;VALUE=DATE:20260323
DTSTAMP:20260116T110050Z
URL:https://riccasposa.com/events/trunk-show-22-01-2026-22-03-2026-at-mado
 nna-poland/
SUMMARY:Trunk Show 22.01.2026 - 22.03.2026 at Madonna | Poland
DESCRIPTION:22-24.01 Poznań \n\n29-31.01 Gdynia\n\n5-7.02 Szczecin\n\n12-1
 4.02 Olsztyn\n\n19-21.02 Łódź\n\n26-28.02 Katowice\n\n5-7.03 Kraków\n\
 n12-14. 03 Wrocław \n\n19-21.03 Warszawa
ATTACH;FMTTYPE=image/jpeg:https://riccasposa.com/wp-content/uploads/2026/0
 1/file_69.jpg
CATEGORIES:Trunk Shows
LOCATION:Madonna\, Poland\, Poland\, Warsaw\, al. Jana Pawła II 27\, 
X-APPLE-STRUCTURED-LOCATION;VALUE=URI;X-ADDRESS=Poland\, Warsaw\, al. Jana 
 Pawła II 27\, ;X-APPLE-RADIUS=100;X-TITLE=Madonna\, Poland:geo:0,0
END:VEVENT
BEGIN:VTIMEZONE
TZID:America/New_York
X-LIC-LOCATION:America/New_York
BEGIN:STANDARD
DTSTART:20251102T010000
TZOFFSETFROM:-0400
TZOFFSETTO:-0500
TZNAME:EST
END:STANDARD
BEGIN:DAYLIGHT
DTSTART:20260308T030000
TZOFFSETFROM:-0500
TZOFFSETTO:-0400
TZNAME:EDT
END:DAYLIGHT
END:VTIMEZONE
END:VCALENDAR