


BEGIN:VCALENDAR
VERSION:2.0
PRODID:-//wp-events-plugin.com//7.2.3.1//EN
BEGIN:VEVENT
UID:127@riccasposa.com
DTSTART;TZID=America/New_York;VALUE=DATE:20260123
DTEND;TZID=America/New_York;VALUE=DATE:20260127
DTSTAMP:20260123T115720Z
URL:https://riccasposa.com/events/trunk-show-23-01-2026-26-01-2026-at-elpn
 vn-beviavakn-greece/
SUMMARY:Trunk Show 23.01.2026 - 26.01.2026 at Elpnvn Beviavakn | Greece
DESCRIPTION:
ATTACH;FMTTYPE=image/jpeg:https://riccasposa.com/wp-content/uploads/2026/0
 1/file_71.jpg
CATEGORIES:Trunk Shows
LOCATION:Elpnvn Beviavakn / Greece\, Monis Odigitrias 14\, Iraklio 712 01\,
  Greece\, Iraklio\, 712 01\, Greece
GEO:35.3380278;25.1320383
X-APPLE-STRUCTURED-LOCATION;VALUE=URI;X-ADDRESS=Monis Odigitrias 14\, Irakl
 io 712 01\, Greece\, Iraklio\, 712 01\, Greece;X-APPLE-RADIUS=100;X-TITLE=
 Elpnvn Beviavakn / Greece:geo:35.3380278,25.1320383
END:VEVENT
BEGIN:VTIMEZONE
TZID:America/New_York
X-LIC-LOCATION:America/New_York
BEGIN:STANDARD
DTSTART:20251102T010000
TZOFFSETFROM:-0400
TZOFFSETTO:-0500
TZNAME:EST
END:STANDARD
END:VTIMEZONE
END:VCALENDAR