


BEGIN:VCALENDAR
VERSION:2.0
PRODID:-//wp-events-plugin.com//7.2.3.1//EN
BEGIN:VEVENT
UID:112@riccasposa.com
DTSTART;TZID=America/New_York;VALUE=DATE:20251023
DTEND;TZID=America/New_York;VALUE=DATE:20251107
DTSTAMP:20251020T144436Z
URL:https://riccasposa.com/events/trunk-show-23-10-2025-06-11-2025-at-la-p
 erle-pl/
SUMMARY:Trunk Show 23.10.2025 - 06.11.2025 at La Perle | PL
DESCRIPTION:
ATTACH;FMTTYPE=image/jpeg:https://riccasposa.com/wp-content/uploads/2025/1
 0/file_56.jpg
CATEGORIES:Trunk Shows
LOCATION:La Perle | PL\, Kilińskiego 1c\, 98-220 Zduńska Wola\, Poland\, 
 Zduńska Wola\, 98-220\, Poland
GEO:51.5982618;18.9423233
X-APPLE-STRUCTURED-LOCATION;VALUE=URI;X-ADDRESS=Kilińskiego 1c\, 98-220 Zd
 uńska Wola\, Poland\, Zduńska Wola\, 98-220\, Poland;X-APPLE-RADIUS=100;
 X-TITLE=La Perle | PL:geo:51.5982618,18.9423233
END:VEVENT
BEGIN:VTIMEZONE
TZID:America/New_York
X-LIC-LOCATION:America/New_York
BEGIN:DAYLIGHT
DTSTART:20250309T030000
TZOFFSETFROM:-0500
TZOFFSETTO:-0400
TZNAME:EDT
END:DAYLIGHT
BEGIN:STANDARD
DTSTART:20251102T010000
TZOFFSETFROM:-0400
TZOFFSETTO:-0500
TZNAME:EST
END:STANDARD
END:VTIMEZONE
END:VCALENDAR