


BEGIN:VCALENDAR
VERSION:2.0
PRODID:-//wp-events-plugin.com//7.2.3.1//EN
BEGIN:VEVENT
UID:61@riccasposa.com
DTSTART;TZID=America/New_York:20250524T000000
DTEND;TZID=America/New_York:20250601T235959
DTSTAMP:20250801T093946Z
URL:https://riccasposa.com/events/trunk-show-24-05-25-01-06-25-at-nicole-m
 aes-bridal-united-kingdom/
SUMMARY:Trunk show 24.05.25 - 01.06.25 at Nicole Mae's Bridal | United King
 dom
DESCRIPTION:We are thrilled to invite you to explore our stunning 2025 coll
 ection  at our exclusive trunk show in Nicole Mae's Bridal Studio\, United
  Kingdom.\nMark your calendars for May 24 to June 1\, 2025\, to experience
  the brilliance of LOVE by Ricca Sposa’s designs. Appointments are limit
 ed\, so don’t wait to secure your spot and discover the perfect gown tha
 t will make your bridal dreams come true. We can’t wait to welcome you!
ATTACH;FMTTYPE=image/jpeg:https://riccasposa.com/wp-content/uploads/2025/0
 5/file_13.jpg
CATEGORIES:Trunk Shows
LOCATION:Nicole Mae's Bridal Studio\, Oxfordshire\, Station Rd\, Goring\, R
 eading RG8 9HD\, UK\, Goring\, RG8 9HD\, United Kingdom
GEO:51.5217742;-1.1347224
X-APPLE-STRUCTURED-LOCATION;VALUE=URI;X-ADDRESS=Oxfordshire\, Station Rd\, 
 Goring\, Reading RG8 9HD\, UK\, Goring\, RG8 9HD\, United Kingdom;X-APPLE-
 RADIUS=100;X-TITLE=Nicole Mae's Bridal Studio:geo:51.5217742,-1.1347224
END:VEVENT
BEGIN:VTIMEZONE
TZID:America/New_York
X-LIC-LOCATION:America/New_York
BEGIN:DAYLIGHT
DTSTART:20250309T030000
TZOFFSETFROM:-0500
TZOFFSETTO:-0400
TZNAME:EDT
END:DAYLIGHT
END:VTIMEZONE
END:VCALENDAR