


BEGIN:VCALENDAR
VERSION:2.0
PRODID:-//wp-events-plugin.com//7.2.3.1//EN
BEGIN:VEVENT
UID:23@riccasposa.com
DTSTART;TZID=America/New_York:20240624T000000
DTEND;TZID=America/New_York:20240731T000000
DTSTAMP:20240724T071638Z
URL:https://riccasposa.com/events/trunk-show-24-06-24-31-07-24-at-alyssas-
 bridal-tuxedo/
SUMMARY:TRUNK SHOW 24.06.24 - 31.07.24 AT Alyssa's Bridal & Tuxedo
DESCRIPTION:
ATTACH;FMTTYPE=image/jpeg:https://riccasposa.com/wp-content/uploads/2023/0
 7/24-028-scaled.jpg
CATEGORIES:Trunk Shows
LOCATION:Alyssa's Bridal & Tuxedo\, 6808 S Memorial Dr Suit 356\, Tulsa OK 
 74133\, Tulsa\, OK\, 74133\, OK \, United States
GEO:36.063787;-95.887169
X-APPLE-STRUCTURED-LOCATION;VALUE=URI;X-ADDRESS=6808 S Memorial Dr Suit 356
 \, Tulsa OK 74133\, Tulsa\, OK\, 74133\, OK \, United States;X-APPLE-RADIU
 S=100;X-TITLE=Alyssa's Bridal & Tuxedo:geo:36.063787,-95.887169
END:VEVENT
BEGIN:VTIMEZONE
TZID:America/New_York
X-LIC-LOCATION:America/New_York
BEGIN:DAYLIGHT
DTSTART:20240310T030000
TZOFFSETFROM:-0500
TZOFFSETTO:-0400
TZNAME:EDT
END:DAYLIGHT
END:VTIMEZONE
END:VCALENDAR