


BEGIN:VCALENDAR
VERSION:2.0
PRODID:-//wp-events-plugin.com//7.2.3.1//EN
BEGIN:VEVENT
UID:81@riccasposa.com
DTSTART;TZID=America/New_York:20250512T000000
DTEND;TZID=America/New_York:20250522T235900
DTSTAMP:20250915T111027Z
URL:https://riccasposa.com/events/trunk-show-24-08-2025-07-09-2025-at-perl
 a-bridal-denver/
SUMMARY:Trunk Show 12.05.2025 - 22.05.2025 at Perla Bridal | Denver
DESCRIPTION:N/A
ATTACH;FMTTYPE=image/jpeg:https://riccasposa.com/wp-content/uploads/2025/0
 7/file_28.jpg
CATEGORIES:Trunk Shows
LOCATION:Perla Bridal\,  6639 Las Vegas blvd.\, Suite K129 Las Vegas\, Neva
 da\, Las Vegas\, Nevada\, United States
GEO:36.068752;-115.177066
X-APPLE-STRUCTURED-LOCATION;VALUE=URI;X-ADDRESS= 6639 Las Vegas blvd.\, Sui
 te K129 Las Vegas\, Nevada\, Las Vegas\, Nevada\, United States;X-APPLE-RA
 DIUS=100;X-TITLE=Perla Bridal:geo:36.068752,-115.177066
END:VEVENT
BEGIN:VTIMEZONE
TZID:America/New_York
X-LIC-LOCATION:America/New_York
BEGIN:DAYLIGHT
DTSTART:20250309T030000
TZOFFSETFROM:-0500
TZOFFSETTO:-0400
TZNAME:EDT
END:DAYLIGHT
END:VTIMEZONE
END:VCALENDAR