


BEGIN:VCALENDAR
VERSION:2.0
PRODID:-//wp-events-plugin.com//7.2.3.1//EN
BEGIN:VEVENT
UID:131@riccasposa.com
DTSTART;TZID=America/New_York;VALUE=DATE:20260225
DTEND;TZID=America/New_York;VALUE=DATE:20260304
DTSTAMP:20260128T161007Z
URL:https://riccasposa.com/events/trunk-show-25-02-2026-03-03-2026-at-%ce%
 bd%cf%85%cf%86%ce%b9%ce%ba%ce%ac-bridal-art-greece/
SUMMARY:Trunk Show 25.02.2026 - 03.03.2026 at Νυφικά Bridal Art | Gre
 ece
DESCRIPTION:
ATTACH;FMTTYPE=image/jpeg:https://riccasposa.com/wp-content/uploads/2026/0
 1/file_75.jpg
CATEGORIES:Trunk Shows
LOCATION:Νυφικά Bridal Art | Greece\, Str. Makrigianni 127\, Athina 1
 83 45\, Greece\, Athina\, 183 45\, Greece
GEO:37.9539586;23.6794772
X-APPLE-STRUCTURED-LOCATION;VALUE=URI;X-ADDRESS=Str. Makrigianni 127\, Athi
 na 183 45\, Greece\, Athina\, 183 45\, Greece;X-APPLE-RADIUS=100;X-TITLE=
 Νυφικά Bridal Art | Greece:geo:37.9539586,23.6794772
END:VEVENT
BEGIN:VTIMEZONE
TZID:America/New_York
X-LIC-LOCATION:America/New_York
BEGIN:STANDARD
DTSTART:20251102T010000
TZOFFSETFROM:-0400
TZOFFSETTO:-0500
TZNAME:EST
END:STANDARD
END:VTIMEZONE
END:VCALENDAR