


BEGIN:VCALENDAR
VERSION:2.0
PRODID:-//wp-events-plugin.com//7.2.3.1//EN
BEGIN:VEVENT
UID:98@riccasposa.com
DTSTART;TZID=America/New_York;VALUE=DATE:20250925
DTEND;TZID=America/New_York;VALUE=DATE:20251007
DTSTAMP:20250822T134826Z
URL:https://riccasposa.com/events/trunk-show-25-09-2025-06-10-2025-at-ava-
 lauren-usa/
SUMMARY:Trunk Show 25.09.2025 - 06.10.2025 at AVA LAUREN | USA
DESCRIPTION:
ATTACH;FMTTYPE=image/jpeg:https://riccasposa.com/wp-content/uploads/2025/0
 8/file_41.jpg
CATEGORIES:Trunk Shows
LOCATION:Ava Lauren / USA\, 1001 Princess Anne St\, Fredericksburg\, VA 224
 01\, United States\, 
GEO:0.000000;0.000000
X-APPLE-STRUCTURED-LOCATION;VALUE=URI;X-ADDRESS=1001 Princess Anne St\, Fre
 dericksburg\, VA 22401\, United States\, ;X-APPLE-RADIUS=100;X-TITLE=Ava L
 auren / USA:geo:0.000000,0.000000
END:VEVENT
BEGIN:VTIMEZONE
TZID:America/New_York
X-LIC-LOCATION:America/New_York
BEGIN:DAYLIGHT
DTSTART:20250309T030000
TZOFFSETFROM:-0500
TZOFFSETTO:-0400
TZNAME:EDT
END:DAYLIGHT
END:VTIMEZONE
END:VCALENDAR