


BEGIN:VCALENDAR
VERSION:2.0
PRODID:-//wp-events-plugin.com//7.2.3.1//EN
BEGIN:VEVENT
UID:97@riccasposa.com
DTSTART;TZID=America/New_York;VALUE=DATE:20250925
DTEND;TZID=America/New_York;VALUE=DATE:20251007
DTSTAMP:20250821T195255Z
URL:https://riccasposa.com/events/trunk-show-25-09-2025-06-10-2025-at-gaut
 ier-formal-dresses-usa-3/
SUMMARY:Trunk Show 25.09.2025 - 06.10.2025 at GAUTIER FORMAL DRESSES | USA
DESCRIPTION:
ATTACH;FMTTYPE=image/jpeg:https://riccasposa.com/wp-content/uploads/2025/0
 8/file_38.jpg
CATEGORIES:Trunk Shows
LOCATION:GAUTIER FORMAL DRESSES / USA\, 10515 W I-10\, San Antonio\, TX 782
 57\, USA\, San Antonio\, 78257\, United States
GEO:29.6558015;-98.6255274
X-APPLE-STRUCTURED-LOCATION;VALUE=URI;X-ADDRESS=10515 W I-10\, San Antonio\
 , TX 78257\, USA\, San Antonio\, 78257\, United States;X-APPLE-RADIUS=100;
 X-TITLE=GAUTIER FORMAL DRESSES / USA:geo:29.6558015,-98.6255274
END:VEVENT
BEGIN:VTIMEZONE
TZID:America/New_York
X-LIC-LOCATION:America/New_York
BEGIN:DAYLIGHT
DTSTART:20250309T030000
TZOFFSETFROM:-0500
TZOFFSETTO:-0400
TZNAME:EDT
END:DAYLIGHT
END:VTIMEZONE
END:VCALENDAR