


BEGIN:VCALENDAR
VERSION:2.0
PRODID:-//wp-events-plugin.com//7.2.3.1//EN
BEGIN:VEVENT
UID:74@riccasposa.com
DTSTART;TZID=America/New_York:20250626T000000
DTEND;TZID=America/New_York:20250707T235959
DTSTAMP:20250801T093940Z
URL:https://riccasposa.com/events/trunk-show-26-06-2025-07-07-2025-at-tala
 -daniel-bridal-couture-uk/
SUMMARY:Trunk Show 26.06.2025 - 07.07.2025 at Tala Daniel Bridal Couture | 
 UK
DESCRIPTION:We are thrilled to invite you to explore our stunning 2025 coll
 ections at our exclusive trunk show in Tala Daniel Bridal Couture | UK.\nM
 ark your calendars for June 26 to June 07\, 2025\, to experience the brill
 iance of Dance of Puglia collection and Soft Flow collection. Appointments
  are limited\, so don’t wait to secure your spot and discover the perfec
 t gown that will make your bridal dreams come true. We can’t wait to wel
 come you!
ATTACH;FMTTYPE=image/jpeg:https://riccasposa.com/wp-content/uploads/2025/0
 6/file_24.jpg
CATEGORIES:Trunk Shows
LOCATION:Tala Daniel Bridal Couture\, 240 Upper Richmond Rd W\, London SW14
  8AG\, UK\, N/A\, SW14 8AG\, United Kingdom
GEO:51.4648919;-0.2659874
X-APPLE-STRUCTURED-LOCATION;VALUE=URI;X-ADDRESS=240 Upper Richmond Rd W\, L
 ondon SW14 8AG\, UK\, N/A\, SW14 8AG\, United Kingdom;X-APPLE-RADIUS=100;X
 -TITLE=Tala Daniel Bridal Couture:geo:51.4648919,-0.2659874
END:VEVENT
BEGIN:VTIMEZONE
TZID:America/New_York
X-LIC-LOCATION:America/New_York
BEGIN:DAYLIGHT
DTSTART:20250309T030000
TZOFFSETFROM:-0500
TZOFFSETTO:-0400
TZNAME:EDT
END:DAYLIGHT
END:VTIMEZONE
END:VCALENDAR