


BEGIN:VCALENDAR
VERSION:2.0
PRODID:-//wp-events-plugin.com//7.2.3.1//EN
BEGIN:VEVENT
UID:102@riccasposa.com
DTSTART;TZID=America/New_York;VALUE=DATE:20251002
DTEND;TZID=America/New_York;VALUE=DATE:20251020
DTSTAMP:20250930T103000Z
URL:https://riccasposa.com/events/trunk-show-26-09-2025-19-10-2025-at-whit
 e-silhouette-germany/
SUMMARY:Trunk Show 02.10.2025 - 19.10.2025 at White Silhouette | Germany
DESCRIPTION:
ATTACH;FMTTYPE=image/jpeg:https://riccasposa.com/wp-content/uploads/2025/0
 8/file_46.jpg
CATEGORIES:Trunk Shows
LOCATION:White Silhouette\, Germany\, Wasserburger Landstraße 196\, 81827 
 München\, Germany\, München\, 81827\, Germany
GEO:48.1142872;11.6974843
X-APPLE-STRUCTURED-LOCATION;VALUE=URI;X-ADDRESS=Wasserburger Landstraße 19
 6\, 81827 München\, Germany\, München\, 81827\, Germany;X-APPLE-RADIUS=1
 00;X-TITLE=White Silhouette\, Germany:geo:48.1142872,11.6974843
END:VEVENT
BEGIN:VTIMEZONE
TZID:America/New_York
X-LIC-LOCATION:America/New_York
BEGIN:DAYLIGHT
DTSTART:20250309T030000
TZOFFSETFROM:-0500
TZOFFSETTO:-0400
TZNAME:EDT
END:DAYLIGHT
END:VTIMEZONE
END:VCALENDAR