


BEGIN:VCALENDAR
VERSION:2.0
PRODID:-//wp-events-plugin.com//7.2.3.1//EN
BEGIN:VEVENT
UID:26@riccasposa.com
DTSTART;TZID=America/New_York:20240727T000000
DTEND;TZID=America/New_York:20240810T235959
DTSTAMP:20250801T094001Z
URL:https://riccasposa.com/events/trunk-show-27-07-10-08-at-ivery-brautmod
 en-germany/
SUMMARY:TRUNK SHOW 27.07 - 10.08 AT Ivery Brautmoden Germany
DESCRIPTION:
ATTACH;FMTTYPE=image/jpeg:https://riccasposa.com/wp-content/uploads/2024/0
 7/MG_9113-2-scaled.jpg
CATEGORIES:Trunk Shows
LOCATION:Ivery Brautmoden Germany\, Römerstraße 101 71229 Leonberg\, Leo
 nberg\, Germany\, 71229\, 0151 - 55 88 19 19\, Germany
GEO:48.796431;9.013206
X-APPLE-STRUCTURED-LOCATION;VALUE=URI;X-ADDRESS=Römerstraße 101 71229 Le
 onberg\, Leonberg\, Germany\, 71229\, 0151 - 55 88 19 19\, Germany;X-APPLE
 -RADIUS=100;X-TITLE=Ivery Brautmoden Germany:geo:48.796431,9.013206
END:VEVENT
BEGIN:VTIMEZONE
TZID:America/New_York
X-LIC-LOCATION:America/New_York
BEGIN:DAYLIGHT
DTSTART:20240310T030000
TZOFFSETFROM:-0500
TZOFFSETTO:-0400
TZNAME:EDT
END:DAYLIGHT
END:VTIMEZONE
END:VCALENDAR