


BEGIN:VCALENDAR
VERSION:2.0
PRODID:-//wp-events-plugin.com//7.2.3.1//EN
BEGIN:VEVENT
UID:135@riccasposa.com
DTSTART;TZID=America/New_York;VALUE=DATE:20260228
DTEND;TZID=America/New_York;VALUE=DATE:20260330
DTSTAMP:20260228T121317Z
URL:https://riccasposa.com/events/trunk-show-28-02-2026-29-03-2026-at-dubl
 in-bridal-house-ireland/
SUMMARY:Trunk Show 28.02.2026 - 29.03.2026 at Dublin Bridal House | Ireland
DESCRIPTION:
ATTACH;FMTTYPE=image/jpeg:https://riccasposa.com/wp-content/uploads/2026/0
 2/file_79.jpg
CATEGORIES:Trunk Shows
LOCATION:Dublin Bridal House\, 11 Main St\, Rathfarnham\, Dublin\, D14 C2F5
 \, Ireland\, Dublin\, D14 C2F5\, Ireland
GEO:53.2992921;-6.2852663
X-APPLE-STRUCTURED-LOCATION;VALUE=URI;X-ADDRESS=11 Main St\, Rathfarnham\, 
 Dublin\, D14 C2F5\, Ireland\, Dublin\, D14 C2F5\, Ireland;X-APPLE-RADIUS=1
 00;X-TITLE=Dublin Bridal House:geo:53.2992921,-6.2852663
END:VEVENT
BEGIN:VTIMEZONE
TZID:America/New_York
X-LIC-LOCATION:America/New_York
BEGIN:STANDARD
DTSTART:20251102T010000
TZOFFSETFROM:-0400
TZOFFSETTO:-0500
TZNAME:EST
END:STANDARD
BEGIN:DAYLIGHT
DTSTART:20260308T030000
TZOFFSETFROM:-0500
TZOFFSETTO:-0400
TZNAME:EDT
END:DAYLIGHT
END:VTIMEZONE
END:VCALENDAR