


BEGIN:VCALENDAR
VERSION:2.0
PRODID:-//wp-events-plugin.com//7.2.3.1//EN
BEGIN:VEVENT
UID:119@riccasposa.com
DTSTART;TZID=America/New_York;VALUE=DATE:20251128
DTEND;TZID=America/New_York;VALUE=DATE:20251215
DTSTAMP:20251126T122219Z
URL:https://riccasposa.com/events/trunk-show-28-11-2025-14-12-2025-at-brid
 ely-boutique-usa/
SUMMARY:Trunk Show 28.11.2025 - 14.12.2025 at Bridely Boutique | USA
DESCRIPTION:
ATTACH;FMTTYPE=image/jpeg:https://riccasposa.com/wp-content/uploads/2025/1
 1/file_63.jpg
CATEGORIES:Trunk Shows
LOCATION:Bridely Boutique | Kansas\, 3200 E Douglas Ave\, Wichita\, KS 6720
 8\, USA\, Wichita\, 67208\, United States
GEO:37.6864557;-97.2988039
X-APPLE-STRUCTURED-LOCATION;VALUE=URI;X-ADDRESS=3200 E Douglas Ave\, Wichit
 a\, KS 67208\, USA\, Wichita\, 67208\, United States;X-APPLE-RADIUS=100;X-
 TITLE=Bridely Boutique | Kansas:geo:37.6864557,-97.2988039
END:VEVENT
BEGIN:VTIMEZONE
TZID:America/New_York
X-LIC-LOCATION:America/New_York
BEGIN:STANDARD
DTSTART:20251102T010000
TZOFFSETFROM:-0400
TZOFFSETTO:-0500
TZNAME:EST
END:STANDARD
END:VTIMEZONE
END:VCALENDAR