


BEGIN:VCALENDAR
VERSION:2.0
PRODID:-//wp-events-plugin.com//7.2.3.1//EN
BEGIN:VEVENT
UID:132@riccasposa.com
DTSTART;TZID=America/New_York;VALUE=DATE:20260130
DTEND;TZID=America/New_York;VALUE=DATE:20260217
DTSTAMP:20260204T115841Z
URL:https://riccasposa.com/events/trunk-show-30-01-2026-16-02-2026-the-one
 -eleven-collective-usa/
SUMMARY:Trunk Show 30.01.2026 - 16.02.2026 The One Eleven Collective | USA
DESCRIPTION:
ATTACH;FMTTYPE=image/jpeg:https://riccasposa.com/wp-content/uploads/2026/0
 2/file_76.jpg
CATEGORIES:Trunk Shows
LOCATION:One Eleven Collective | Albany\, NY\, USA\, 111 State St\, Albany\
 , NY 12207\, USA\, Albany\, 12207\, United States
GEO:42.6511245;-73.7545322
X-APPLE-STRUCTURED-LOCATION;VALUE=URI;X-ADDRESS=111 State St\, Albany\, NY 
 12207\, USA\, Albany\, 12207\, United States;X-APPLE-RADIUS=100;X-TITLE=On
 e Eleven Collective | Albany\, NY\, USA:geo:42.6511245,-73.7545322
END:VEVENT
BEGIN:VTIMEZONE
TZID:America/New_York
X-LIC-LOCATION:America/New_York
BEGIN:STANDARD
DTSTART:20251102T010000
TZOFFSETFROM:-0400
TZOFFSETTO:-0500
TZNAME:EST
END:STANDARD
END:VTIMEZONE
END:VCALENDAR