


BEGIN:VCALENDAR
VERSION:2.0
PRODID:-//wp-events-plugin.com//7.2.3.1//EN
BEGIN:VEVENT
UID:67@riccasposa.com
DTSTART;TZID=America/New_York:20250530T000000
DTEND;TZID=America/New_York:20250615T235959
DTSTAMP:20250801T093943Z
URL:https://riccasposa.com/events/trunk-show-30-05-25-15-06-25-at-angel-ri
 viera-bridal-atelier-ridgewood-usa/
SUMMARY:Trunk show 30.05.25 - 15.06.25 at Angel Riviera Bridal Atelier | Ri
 dgewood USA
DESCRIPTION:We are thrilled to invite you to explore our stunning Ricca Spo
 sa 2026 collections at our exclusive trunk show in Angel Riviera Bridal At
 elier\, United States.\nMark your calendars for May 30  to June 15\, 2025\
 , to experience the brilliance Ricca Sposa ATELIER 2026 collection\, LOVE 
 by Ricca Sposa 2026 collection and Ricca Sposa couture. Appointments are l
 imited\, so don’t wait to secure your spot and discover the perfect gown
  that will make your bridal dreams come true. We can’t wait to welcome y
 ou!
ATTACH;FMTTYPE=image/jpeg:https://riccasposa.com/wp-content/uploads/2025/0
 6/file_16.jpg
CATEGORIES:Trunk Shows
LOCATION:Angel Riviera Bridal Atelier\, 25 W Ridgewood Ave\, Ridgewood\, NJ
  07450\, USA\, Ridgewood\, 07450\, United States
GEO:40.9807528;-74.1224304
X-APPLE-STRUCTURED-LOCATION;VALUE=URI;X-ADDRESS=25 W Ridgewood Ave\, Ridgew
 ood\, NJ 07450\, USA\, Ridgewood\, 07450\, United States;X-APPLE-RADIUS=10
 0;X-TITLE=Angel Riviera Bridal Atelier:geo:40.9807528,-74.1224304
END:VEVENT
BEGIN:VTIMEZONE
TZID:America/New_York
X-LIC-LOCATION:America/New_York
BEGIN:DAYLIGHT
DTSTART:20250309T030000
TZOFFSETFROM:-0500
TZOFFSETTO:-0400
TZNAME:EDT
END:DAYLIGHT
END:VTIMEZONE
END:VCALENDAR