


BEGIN:VCALENDAR
VERSION:2.0
PRODID:-//wp-events-plugin.com//7.2.3.1//EN
BEGIN:VEVENT
UID:126@riccasposa.com
DTSTART;TZID=America/New_York;VALUE=DATE:20260131
DTEND;TZID=America/New_York;VALUE=DATE:20260301
DTSTAMP:20260116T110752Z
URL:https://riccasposa.com/events/trunk-show-31-01-2026-28-02-2026-at-the-
 wedding-room-scarborough-uk/
SUMMARY:Trunk Show 31.01.2026 - 28.02.2026 at The Wedding Room Scarborough 
 | UK
DESCRIPTION:
ATTACH;FMTTYPE=image/jpeg:https://riccasposa.com/wp-content/uploads/2026/0
 1/file_70.jpg
CATEGORIES:Trunk Shows
LOCATION:The Wedding Room Scarborough | UK\, The Wedding Room\, 16 Bar St\,
  Scarborough YO11 2HT\, UK\, YO11 2HT\, United Kingdom
GEO:54.2820412;-0.4000928
X-APPLE-STRUCTURED-LOCATION;VALUE=URI;X-ADDRESS=The Wedding Room\, 16 Bar S
 t\, Scarborough YO11 2HT\, UK\, YO11 2HT\, United Kingdom;X-APPLE-RADIUS=1
 00;X-TITLE=The Wedding Room Scarborough | UK:geo:54.2820412,-0.4000928
END:VEVENT
BEGIN:VTIMEZONE
TZID:America/New_York
X-LIC-LOCATION:America/New_York
BEGIN:STANDARD
DTSTART:20251102T010000
TZOFFSETFROM:-0400
TZOFFSETTO:-0500
TZNAME:EST
END:STANDARD
END:VTIMEZONE
END:VCALENDAR