


BEGIN:VCALENDAR
VERSION:2.0
PRODID:-//wp-events-plugin.com//7.2.3.1//EN
BEGIN:VEVENT
UID:21@riccasposa.com
DTSTART;TZID=America/New_York:20240527T000000
DTEND;TZID=America/New_York:20240611T235959
DTSTAMP:20250801T094005Z
URL:https://riccasposa.com/events/trunk-show-5-04-19-04-at-something-blue-
 bridal-gallery/
SUMMARY:TRUNK SHOW 27.05 - 11.06 AT Something Blue Bridal Gallery
DESCRIPTION:
ATTACH;FMTTYPE=image/jpeg:https://riccasposa.com/wp-content/uploads/2024/0
 6/IMG_6236.jpeg
CATEGORIES:Trunk Shows
LOCATION:Something Blue Bridal Gallery\, 4555 South Fort Apache unit 146 La
 s Vegas\, NV 89147\, Las Vegas\, USA\, 89147\, NV\, United States
GEO:36.106433;-115.298019
X-APPLE-STRUCTURED-LOCATION;VALUE=URI;X-ADDRESS=4555 South Fort Apache unit
  146 Las Vegas\, NV 89147\, Las Vegas\, USA\, 89147\, NV\, United States;X
 -APPLE-RADIUS=100;X-TITLE=Something Blue Bridal Gallery:geo:36.106433,-115
 .298019
END:VEVENT
BEGIN:VTIMEZONE
TZID:America/New_York
X-LIC-LOCATION:America/New_York
BEGIN:DAYLIGHT
DTSTART:20240310T030000
TZOFFSETFROM:-0500
TZOFFSETTO:-0400
TZNAME:EDT
END:DAYLIGHT
END:VTIMEZONE
END:VCALENDAR