


BEGIN:VCALENDAR
VERSION:2.0
PRODID:-//wp-events-plugin.com//7.2.3.1//EN
BEGIN:VEVENT
UID:36@riccasposa.com
DTSTART;TZID=Europe/London:20241123T000000
DTEND;TZID=Europe/London:20241220T235959
DTSTAMP:20250801T093954Z
URL:https://riccasposa.com/events/trunk-show-at-lacy-days-of-ramsbottom-23
 -11-7-12/
SUMMARY:Trunk Show at Lacy Days of Ramsbottom  23.11-7.12
DESCRIPTION:
ATTACH;FMTTYPE=image/jpeg:https://riccasposa.com/wp-content/uploads/2024/1
 1/IMG_7273.jpeg
CATEGORIES:Trunk Shows
LOCATION:\, 24-26 Bolton St Ramsbottom  Bury BL0 9HX\, Bury\, United Kingdo
 m \, BL0 9HX\, United Kingdom
GEO:53.648217;-2.318831
X-APPLE-STRUCTURED-LOCATION;VALUE=URI;X-ADDRESS=24-26 Bolton St Ramsbottom 
  Bury BL0 9HX\, Bury\, United Kingdom \, BL0 9HX\, United Kingdom;X-APPLE-
 RADIUS=100;X-TITLE=:geo:53.648217,-2.318831
END:VEVENT
BEGIN:VTIMEZONE
TZID:Europe/London
X-LIC-LOCATION:Europe/London
BEGIN:STANDARD
DTSTART:20241027T010000
TZOFFSETFROM:+0100
TZOFFSETTO:+0000
TZNAME:GMT
END:STANDARD
END:VTIMEZONE
END:VCALENDAR